BEGIN:VCALENDAR
PRODID:-//dvv-bw.de//dvv.Portalplattform//DE
VERSION:2.0
METHOD:PUBLISH
BEGIN:VEVENT
DTSTART:20260718T150000Z
DTEND:20260718T210000Z
DTSTAMP:20260421T185712Z
UID:669368850-669368750-1784325600000
SUMMARY:Picknick im Weinberg
DESCRIPTION:Am 18.07.2026 findet wieder unser beliebtes und leckeres Picknick im Weinberg statt. Wenn Du dabei sein möchtest\, bitten wir Dich um eine Anmeldung per E-Mail an land-frauen.ihringen@web.de mit Angabe der folgenden Daten:• Name/Vorname/Mobilnummer• Anzahl der Picknicktaschen mit Angabe zur Füllung (vegetarischoder nicht-vegetarisch)Schnell sein lohnt sich\, die Plätze sind begrenzt
CLASS:PUBLIC
X-ALT-DESC;FMTTYPE=text/html:Am 18.07.2026 findet wieder unser beliebtes und leckeres Picknick im Weinberg statt. Wenn Du dabei sein möchtest\, bitten wir Dich um eine Anmeldung per E-Mail an land-frauen.ihringen@web.de mit Angabe der folgenden Daten:&bull; Name/Vorname/Mobilnummer&bull; Anzahl der Picknicktaschen mit Angabe zur Füllung (vegetarischoder nicht-vegetarisch)Schnell sein lohnt sich\, die Plätze sind begrenzt
END:VEVENT
END:VCALENDAR
